BEGIN:VCALENDAR
VERSION:2.0
PRODID:-//Accent Mediation - ECPv6.15.19//NONSGML v1.0//EN
CALSCALE:GREGORIAN
METHOD:PUBLISH
X-WR-CALNAME:Accent Mediation
X-ORIGINAL-URL:https://www.accentmediation.nl
X-WR-CALDESC:Events for Accent Mediation
REFRESH-INTERVAL;VALUE=DURATION:PT1H
X-Robots-Tag:noindex
X-PUBLISHED-TTL:PT1H
BEGIN:VTIMEZONE
TZID:Europe/Amsterdam
BEGIN:DAYLIGHT
TZOFFSETFROM:+0100
TZOFFSETTO:+0200
TZNAME:CEST
DTSTART:20220327T010000
END:DAYLIGHT
BEGIN:STANDARD
TZOFFSETFROM:+0200
TZOFFSETTO:+0100
TZNAME:CET
DTSTART:20221030T010000
END:STANDARD
BEGIN:DAYLIGHT
TZOFFSETFROM:+0100
TZOFFSETTO:+0200
TZNAME:CEST
DTSTART:20230326T010000
END:DAYLIGHT
BEGIN:STANDARD
TZOFFSETFROM:+0200
TZOFFSETTO:+0100
TZNAME:CET
DTSTART:20231029T010000
END:STANDARD
BEGIN:DAYLIGHT
TZOFFSETFROM:+0100
TZOFFSETTO:+0200
TZNAME:CEST
DTSTART:20240331T010000
END:DAYLIGHT
BEGIN:STANDARD
TZOFFSETFROM:+0200
TZOFFSETTO:+0100
TZNAME:CET
DTSTART:20241027T010000
END:STANDARD
END:VTIMEZONE
BEGIN:VEVENT
DTSTART;TZID=Europe/Amsterdam:20230109T140000
DTEND;TZID=Europe/Amsterdam:20230109T160000
DTSTAMP:20260419T205629
CREATED:20220906T050601Z
LAST-MODIFIED:20221220T150705Z
UID:4658-1673272800-1673280000@www.accentmediation.nl
SUMMARY:Gastcollege echtscheidingsrecht Rijksuniversiteit Groningen (RUG)
DESCRIPTION:
URL:https://www.accentmediation.nl/event/gastcollege-echtscheidingsrecht-rijks-universiteit-groningen-rug/
LOCATION:Groningen
CATEGORIES:Training
END:VEVENT
BEGIN:VEVENT
DTSTART;TZID=Europe/Amsterdam:20230111T000000
DTEND;TZID=Europe/Amsterdam:20230111T235959
DTSTAMP:20260419T205629
CREATED:20221220T154732Z
LAST-MODIFIED:20221220T154904Z
UID:5111-1673395200-1673481599@www.accentmediation.nl
SUMMARY:Incompany training
DESCRIPTION:
URL:https://www.accentmediation.nl/event/incompany-training/
LOCATION:Groningen
END:VEVENT
BEGIN:VEVENT
DTSTART;TZID=Europe/Amsterdam:20230112T010000
DTEND;TZID=Europe/Amsterdam:20230114T005959
DTSTAMP:20260419T205629
CREATED:20221220T153634Z
LAST-MODIFIED:20221220T153635Z
UID:5103-1673485200-1673657999@www.accentmediation.nl
SUMMARY:Mediationopleiding Wagner Group – Module 4
DESCRIPTION:In de Mediation Opleiding MfN leer je in zes maanden het onderscheid te maken tussen inhoud en emotie\, waardoor je draagvlak kunt creëren en gefaseerd toewerkt naar een duurzaam eindresultaat. Betrokkenheid\, gesprekstechniek en onderhandelingsvaardigheden zijn hierbij een must. Jouw rol is toekomstgericht\, met als doel het gesprek van conflict naar kans te brengen. https://wagner.nl/opleidingen/mediation-opleiding-mfn/
URL:https://www.accentmediation.nl/event/mediationopleiding-wagner-group-module-4/
LOCATION:Groningen
CATEGORIES:Training
END:VEVENT
END:VCALENDAR