BEGIN:VCALENDAR
VERSION:2.0
PRODID:-//Accent Mediation - ECPv6.15.19//NONSGML v1.0//EN
CALSCALE:GREGORIAN
METHOD:PUBLISH
X-ORIGINAL-URL:https://www.accentmediation.nl
X-WR-CALDESC:Events for Accent Mediation
REFRESH-INTERVAL;VALUE=DURATION:PT1H
X-Robots-Tag:noindex
X-PUBLISHED-TTL:PT1H
BEGIN:VTIMEZONE
TZID:Europe/Amsterdam
BEGIN:DAYLIGHT
TZOFFSETFROM:+0100
TZOFFSETTO:+0200
TZNAME:CEST
DTSTART:20210328T010000
END:DAYLIGHT
BEGIN:STANDARD
TZOFFSETFROM:+0200
TZOFFSETTO:+0100
TZNAME:CET
DTSTART:20211031T010000
END:STANDARD
BEGIN:DAYLIGHT
TZOFFSETFROM:+0100
TZOFFSETTO:+0200
TZNAME:CEST
DTSTART:20220327T010000
END:DAYLIGHT
BEGIN:STANDARD
TZOFFSETFROM:+0200
TZOFFSETTO:+0100
TZNAME:CET
DTSTART:20221030T010000
END:STANDARD
BEGIN:DAYLIGHT
TZOFFSETFROM:+0100
TZOFFSETTO:+0200
TZNAME:CEST
DTSTART:20230326T010000
END:DAYLIGHT
BEGIN:STANDARD
TZOFFSETFROM:+0200
TZOFFSETTO:+0100
TZNAME:CET
DTSTART:20231029T010000
END:STANDARD
END:VTIMEZONE
BEGIN:VEVENT
DTSTART;TZID=Europe/Amsterdam:20220930T020000
DTEND;TZID=Europe/Amsterdam:20221001T015959
DTSTAMP:20260420T031923
CREATED:20220906T050607Z
LAST-MODIFIED:20220906T072501Z
UID:4667-1664503200-1664589599@www.accentmediation.nl
SUMMARY:PPS-Congres – Geweldloze communicatie
DESCRIPTION:Erger je je aan mensen die geen verantwoordelijkheid nemen voor zichzelf? Je kunt de mens in de ander niet zien als je jezelf niet durft te zien. Hoe je met jezelf omgaat\, bepaalt hoe je met de ander omgaat. Hoeveel moeite doen wij om voorbij het masker van de ander te kijken? Kunnen we dat wel\, als we ons eigen masker liever niet zien? Geweld in taal houdt de vermoeiende drama-driehoek in stand die een doodlopende straat is in relaties. Met geweldloze communicatie kan je rust\, openheid en gelijkwaardigheid creëren in gesprekken. https://www.ppscongres.nl\, https://www.ppscongres.nl/programma
URL:https://www.accentmediation.nl/event/pps-congres-geweldloze-communicatie/
LOCATION:Groningen
CATEGORIES:Training
END:VEVENT
BEGIN:VEVENT
DTSTART;TZID=Europe/Amsterdam:20221010T020000
DTEND;TZID=Europe/Amsterdam:20221011T015959
DTSTAMP:20260420T031923
CREATED:20220906T050601Z
LAST-MODIFIED:20221005T135004Z
UID:4660-1665367200-1665453599@www.accentmediation.nl
SUMMARY:Gastcollege Rijksuniversiteit Groningen
DESCRIPTION:Mediation naast rechtspraak\, alternatieve geschillenbeslechting
URL:https://www.accentmediation.nl/event/gastcollege-rijks-universiteit-groningen/
LOCATION:Groningen
CATEGORIES:Training
END:VEVENT
BEGIN:VEVENT
DTSTART;TZID=Europe/Amsterdam:20221019T020000
DTEND;TZID=Europe/Amsterdam:20221020T015959
DTSTAMP:20260420T031923
CREATED:20220906T050604Z
LAST-MODIFIED:20221005T130015Z
UID:4661-1666144800-1666231199@www.accentmediation.nl
SUMMARY:Opleiding reviewers MfN
DESCRIPTION:
URL:https://www.accentmediation.nl/event/opleiding-reviewers-mfn/
LOCATION:Groningen
CATEGORIES:Training
END:VEVENT
BEGIN:VEVENT
DTSTART;TZID=Europe/Amsterdam:20221025T110000
DTEND;TZID=Europe/Amsterdam:20221026T193000
DTSTAMP:20260420T031923
CREATED:20220906T050601Z
LAST-MODIFIED:20220906T071621Z
UID:4659-1666695600-1666812600@www.accentmediation.nl
SUMMARY:Persoonlijk leiderschap voor HRM en Management
DESCRIPTION:
URL:https://www.accentmediation.nl/event/persoonlijk-leiderschap-voor-hrm-en-management/
LOCATION:Groningen
CATEGORIES:Training
END:VEVENT
END:VCALENDAR