BEGIN:VCALENDAR
VERSION:2.0
PRODID:-//Accent Mediation - ECPv6.15.19//NONSGML v1.0//EN
CALSCALE:GREGORIAN
METHOD:PUBLISH
X-ORIGINAL-URL:https://www.accentmediation.nl
X-WR-CALDESC:Events for Accent Mediation
REFRESH-INTERVAL;VALUE=DURATION:PT1H
X-Robots-Tag:noindex
X-PUBLISHED-TTL:PT1H
BEGIN:VTIMEZONE
TZID:Europe/Amsterdam
BEGIN:DAYLIGHT
TZOFFSETFROM:+0100
TZOFFSETTO:+0200
TZNAME:CEST
DTSTART:20210328T010000
END:DAYLIGHT
BEGIN:STANDARD
TZOFFSETFROM:+0200
TZOFFSETTO:+0100
TZNAME:CET
DTSTART:20211031T010000
END:STANDARD
BEGIN:DAYLIGHT
TZOFFSETFROM:+0100
TZOFFSETTO:+0200
TZNAME:CEST
DTSTART:20220327T010000
END:DAYLIGHT
BEGIN:STANDARD
TZOFFSETFROM:+0200
TZOFFSETTO:+0100
TZNAME:CET
DTSTART:20221030T010000
END:STANDARD
BEGIN:DAYLIGHT
TZOFFSETFROM:+0100
TZOFFSETTO:+0200
TZNAME:CEST
DTSTART:20230326T010000
END:DAYLIGHT
BEGIN:STANDARD
TZOFFSETFROM:+0200
TZOFFSETTO:+0100
TZNAME:CET
DTSTART:20231029T010000
END:STANDARD
END:VTIMEZONE
BEGIN:VEVENT
DTSTART;TZID=Europe/Amsterdam:20220425T110000
DTEND;TZID=Europe/Amsterdam:20220426T193000
DTSTAMP:20260420T121554
CREATED:20220906T050624Z
LAST-MODIFIED:20220906T050624Z
UID:4673-1650884400-1651001400@www.accentmediation.nl
SUMMARY:Transformationeel leiderschap
DESCRIPTION:
URL:https://www.accentmediation.nl/event/transformationeel-leiderschap/
LOCATION:Groningen
CATEGORIES:Training
END:VEVENT
BEGIN:VEVENT
DTSTART;TZID=Europe/Amsterdam:20220425T110000
DTEND;TZID=Europe/Amsterdam:20220426T193000
DTSTAMP:20260420T121554
CREATED:20220906T050624Z
LAST-MODIFIED:20220906T050624Z
UID:4677-1650884400-1651001400@www.accentmediation.nl
SUMMARY:6-Daagse Masterclass leiderschap in conflictbemiddeling – deel 3
DESCRIPTION:Data01 en 02/11/21 persoonlijk leiderschap en conflictmanagement \n25 en 26/01/22 verbindend leiderschap  en conflictmanagement\n25 en 26/04/22 transformationeel leiderschap en conflictmanagement \nDe zesdaagse leidt op tot meesterschap in in conflictmanagement\, maar elke module is afzonderlijk te volgen.\nInteresse? Meld je aan of neem contact met ons op via het contactformulier op deze website
URL:https://www.accentmediation.nl/event/6-daagse-masterclass-leiderschap-in-conflictbemiddeling-deel-3/
LOCATION:Groningen
CATEGORIES:Training
END:VEVENT
END:VCALENDAR