BEGIN:VCALENDAR
VERSION:2.0
PRODID:-//Accent Mediation - ECPv6.15.19//NONSGML v1.0//EN
CALSCALE:GREGORIAN
METHOD:PUBLISH
X-WR-CALNAME:Accent Mediation
X-ORIGINAL-URL:https://www.accentmediation.nl
X-WR-CALDESC:Events for Accent Mediation
REFRESH-INTERVAL;VALUE=DURATION:PT1H
X-Robots-Tag:noindex
X-PUBLISHED-TTL:PT1H
BEGIN:VTIMEZONE
TZID:Europe/Amsterdam
BEGIN:DAYLIGHT
TZOFFSETFROM:+0100
TZOFFSETTO:+0200
TZNAME:CEST
DTSTART:20200329T010000
END:DAYLIGHT
BEGIN:STANDARD
TZOFFSETFROM:+0200
TZOFFSETTO:+0100
TZNAME:CET
DTSTART:20201025T010000
END:STANDARD
BEGIN:DAYLIGHT
TZOFFSETFROM:+0100
TZOFFSETTO:+0200
TZNAME:CEST
DTSTART:20210328T010000
END:DAYLIGHT
BEGIN:STANDARD
TZOFFSETFROM:+0200
TZOFFSETTO:+0100
TZNAME:CET
DTSTART:20211031T010000
END:STANDARD
BEGIN:DAYLIGHT
TZOFFSETFROM:+0100
TZOFFSETTO:+0200
TZNAME:CEST
DTSTART:20220327T010000
END:DAYLIGHT
BEGIN:STANDARD
TZOFFSETFROM:+0200
TZOFFSETTO:+0100
TZNAME:CET
DTSTART:20221030T010000
END:STANDARD
END:VTIMEZONE
BEGIN:VEVENT
DTSTART;TZID=Europe/Amsterdam:20211201T100000
DTEND;TZID=Europe/Amsterdam:20211201T140000
DTSTAMP:20260420T233404
CREATED:20220906T050624Z
LAST-MODIFIED:20220906T050624Z
UID:4672-1638352800-1638367200@www.accentmediation.nl
SUMMARY:Workshop Hoe simpel kan het misgaan?
DESCRIPTION:Herken je dat? Misschien nog nét te weinig conflict voor een echte ruzie maar lekker loopt het niet. Een opmerking kan onbedoeld totaal verkeerd uitpakken. Hoe lastig kan het dan zijn voor mensen om weer op een goede wijze met elkaar in gesprek te komen.Tijdens deze workshop met Trainingsacteurs Alice Faber (Het Eerste Bedrijf) en Jildou Mulder en Trainer Verbindende Communicatie Judith Bos (Accent Mediation)\, krijg je te zien hoe makkelijk het mis kan gaan\, wat je kan doen om dat te voorkomen en hoe je anderen kan helpen om weer met elkaar in gesprek te komen. \nDeelname aan deze workshop is gratis.\nMeer informatie en opgave
URL:https://www.accentmediation.nl/event/workshop-hoe-simpel-kan-het-misgaan/
LOCATION:Groningen
ATTACH;FMTTYPE=image/png:https://www.accentmediation.nl/wp-content/uploads/2022/09/Mediation-Noorderlink-400x200-1-0MV75E.tmp_.png
END:VEVENT
END:VCALENDAR