BEGIN:VCALENDAR
VERSION:2.0
PRODID:-//Accent Mediation - ECPv6.15.19//NONSGML v1.0//EN
CALSCALE:GREGORIAN
METHOD:PUBLISH
X-ORIGINAL-URL:https://www.accentmediation.nl
X-WR-CALDESC:Events for Accent Mediation
REFRESH-INTERVAL;VALUE=DURATION:PT1H
X-Robots-Tag:noindex
X-PUBLISHED-TTL:PT1H
BEGIN:VTIMEZONE
TZID:Europe/Amsterdam
BEGIN:DAYLIGHT
TZOFFSETFROM:+0100
TZOFFSETTO:+0200
TZNAME:CEST
DTSTART:20220327T010000
END:DAYLIGHT
BEGIN:STANDARD
TZOFFSETFROM:+0200
TZOFFSETTO:+0100
TZNAME:CET
DTSTART:20221030T010000
END:STANDARD
BEGIN:DAYLIGHT
TZOFFSETFROM:+0100
TZOFFSETTO:+0200
TZNAME:CEST
DTSTART:20230326T010000
END:DAYLIGHT
BEGIN:STANDARD
TZOFFSETFROM:+0200
TZOFFSETTO:+0100
TZNAME:CET
DTSTART:20231029T010000
END:STANDARD
BEGIN:DAYLIGHT
TZOFFSETFROM:+0100
TZOFFSETTO:+0200
TZNAME:CEST
DTSTART:20240331T010000
END:DAYLIGHT
BEGIN:STANDARD
TZOFFSETFROM:+0200
TZOFFSETTO:+0100
TZNAME:CET
DTSTART:20241027T010000
END:STANDARD
END:VTIMEZONE
BEGIN:VEVENT
DTSTART;TZID=Europe/Amsterdam:20230316T010000
DTEND;TZID=Europe/Amsterdam:20230318T005959
DTSTAMP:20260419T192750
CREATED:20221220T153953Z
LAST-MODIFIED:20221220T153954Z
UID:5108-1678928400-1679101199@www.accentmediation.nl
SUMMARY:Mediationopleiding Wagner Group – Module 6
DESCRIPTION:In de Mediation Opleiding MfN leer je in zes maanden het onderscheid te maken tussen inhoud en emotie\, waardoor je draagvlak kunt creëren en gefaseerd toewerkt naar een duurzaam eindresultaat. Betrokkenheid\, gesprekstechniek en onderhandelingsvaardigheden zijn hierbij een must. Jouw rol is toekomstgericht\, met als doel het gesprek van conflict naar kans te brengen. https://wagner.nl/opleidingen/mediation-opleiding-mfn/
URL:https://www.accentmediation.nl/event/mediationopleiding-wagner-group-module-6/
LOCATION:Groningen
CATEGORIES:Training
END:VEVENT
END:VCALENDAR