BEGIN:VCALENDAR
VERSION:2.0
PRODID:-//Accent Mediation - ECPv6.15.19//NONSGML v1.0//EN
CALSCALE:GREGORIAN
METHOD:PUBLISH
X-WR-CALNAME:Accent Mediation
X-ORIGINAL-URL:https://www.accentmediation.nl
X-WR-CALDESC:Events for Accent Mediation
REFRESH-INTERVAL;VALUE=DURATION:PT1H
X-Robots-Tag:noindex
X-PUBLISHED-TTL:PT1H
BEGIN:VTIMEZONE
TZID:Europe/Amsterdam
BEGIN:DAYLIGHT
TZOFFSETFROM:+0100
TZOFFSETTO:+0200
TZNAME:CEST
DTSTART:20210328T010000
END:DAYLIGHT
BEGIN:STANDARD
TZOFFSETFROM:+0200
TZOFFSETTO:+0100
TZNAME:CET
DTSTART:20211031T010000
END:STANDARD
BEGIN:DAYLIGHT
TZOFFSETFROM:+0100
TZOFFSETTO:+0200
TZNAME:CEST
DTSTART:20220327T010000
END:DAYLIGHT
BEGIN:STANDARD
TZOFFSETFROM:+0200
TZOFFSETTO:+0100
TZNAME:CET
DTSTART:20221030T010000
END:STANDARD
BEGIN:DAYLIGHT
TZOFFSETFROM:+0100
TZOFFSETTO:+0200
TZNAME:CEST
DTSTART:20230326T010000
END:DAYLIGHT
BEGIN:STANDARD
TZOFFSETFROM:+0200
TZOFFSETTO:+0100
TZNAME:CET
DTSTART:20231029T010000
END:STANDARD
END:VTIMEZONE
BEGIN:VEVENT
DTSTART;TZID=Europe/Amsterdam:20221104T010000
DTEND;TZID=Europe/Amsterdam:20221105T005959
DTSTAMP:20260420T014815
CREATED:20220906T050605Z
LAST-MODIFIED:20220906T072320Z
UID:4666-1667523600-1667609999@www.accentmediation.nl
SUMMARY:Mediationopleiding Wagner Group – Module 2
DESCRIPTION:In de Mediation Opleiding MfN leer je in zes maanden het onderscheid te maken tussen inhoud en emotie\, waardoor je draagvlak kunt creëren en gefaseerd toewerkt naar een duurzaam eindresultaat. Betrokkenheid\, gesprekstechniek en onderhandelingsvaardigheden zijn hierbij een must. Jouw rol is toekomstgericht\, met als doel het gesprek van conflict naar kans te brengen. https://wagner.nl/opleidingen/mediation-opleiding-mfn/
URL:https://www.accentmediation.nl/event/mediationopleiding-wagner-group-module-2/
LOCATION:Groningen
CATEGORIES:Training
END:VEVENT
END:VCALENDAR